BEGIN:VCALENDAR
VERSION:2.0
PRODID:-//Nicholas Ivins - ECPv6.15.20//NONSGML v1.0//EN
CALSCALE:GREGORIAN
METHOD:PUBLISH
X-WR-CALNAME:Nicholas Ivins
X-ORIGINAL-URL:https://www.nicholasivins.com
X-WR-CALDESC:Events for Nicholas Ivins
REFRESH-INTERVAL;VALUE=DURATION:PT1H
X-Robots-Tag:noindex
X-PUBLISHED-TTL:PT1H
BEGIN:VTIMEZONE
TZID:America/Los_Angeles
BEGIN:DAYLIGHT
TZOFFSETFROM:-0800
TZOFFSETTO:-0700
TZNAME:PDT
DTSTART:20240310T100000
END:DAYLIGHT
BEGIN:STANDARD
TZOFFSETFROM:-0700
TZOFFSETTO:-0800
TZNAME:PST
DTSTART:20241103T090000
END:STANDARD
BEGIN:DAYLIGHT
TZOFFSETFROM:-0800
TZOFFSETTO:-0700
TZNAME:PDT
DTSTART:20250309T100000
END:DAYLIGHT
BEGIN:STANDARD
TZOFFSETFROM:-0700
TZOFFSETTO:-0800
TZNAME:PST
DTSTART:20251102T090000
END:STANDARD
BEGIN:DAYLIGHT
TZOFFSETFROM:-0800
TZOFFSETTO:-0700
TZNAME:PDT
DTSTART:20260308T100000
END:DAYLIGHT
BEGIN:STANDARD
TZOFFSETFROM:-0700
TZOFFSETTO:-0800
TZNAME:PST
DTSTART:20261101T090000
END:STANDARD
END:VTIMEZONE
BEGIN:VEVENT
DTSTART;TZID=America/Los_Angeles:20251205T100000
DTEND;TZID=America/Los_Angeles:20251205T170000
DTSTAMP:20260419T051033
CREATED:20251030T215449Z
LAST-MODIFIED:20251030T215832Z
UID:17022-1764928800-1764954000@www.nicholasivins.com
SUMMARY:Tempe Festival of the Arts Winter 2025
DESCRIPTION:Tempe Festival of the Arts has a 50+ year history in Tempe and takes place in early December and late March each year. It is one of the oldest festivals in the Southwest. The festival has grown to become a Tempe point of pride and a favorite of our residents and visitors. Guests enjoy artists from around the country\, local music\, a Kids Block and many great food options – all located on the streets of historic Mill Avenue.
URL:https://www.nicholasivins.com/event/tempe-festival-of-the-arts-winter-2025/
LOCATION:Tempe\, 690 S Mill Ave\, Tempe\, AZ\, 85281\, United States
ATTACH;FMTTYPE=image/jpeg:https://www.nicholasivins.com/wp-content/uploads/tempe-scaled.jpg
END:VEVENT
BEGIN:VEVENT
DTSTART;TZID=America/Los_Angeles:20251206T100000
DTEND;TZID=America/Los_Angeles:20251206T170000
DTSTAMP:20260419T051033
CREATED:20251030T215645Z
LAST-MODIFIED:20251030T215645Z
UID:17024-1765015200-1765040400@www.nicholasivins.com
SUMMARY:Tempe Festival of the Arts Winter 2025
DESCRIPTION:Tempe Festival of the Arts has a 50+ year history in Tempe and takes place in early December and late March each year. It is one of the oldest festivals in the Southwest. The festival has grown to become a Tempe point of pride and a favorite of our residents and visitors. Guests enjoy artists from around the country\, local music\, a Kids Block and many great food options – all located on the streets of historic Mill Avenue.
URL:https://www.nicholasivins.com/event/tempe-festival-of-the-arts-winter-2025-2/
LOCATION:Tempe\, 690 S Mill Ave\, Tempe\, AZ\, 85281\, United States
ATTACH;FMTTYPE=image/jpeg:https://www.nicholasivins.com/wp-content/uploads/tempe-scaled.jpg
END:VEVENT
BEGIN:VEVENT
DTSTART;TZID=America/Los_Angeles:20251207T100000
DTEND;TZID=America/Los_Angeles:20251207T170000
DTSTAMP:20260419T051033
CREATED:20251030T215708Z
LAST-MODIFIED:20251030T215708Z
UID:17025-1765101600-1765126800@www.nicholasivins.com
SUMMARY:Tempe Festival of the Arts Winter 2025
DESCRIPTION:Tempe Festival of the Arts has a 50+ year history in Tempe and takes place in early December and late March each year. It is one of the oldest festivals in the Southwest. The festival has grown to become a Tempe point of pride and a favorite of our residents and visitors. Guests enjoy artists from around the country\, local music\, a Kids Block and many great food options – all located on the streets of historic Mill Avenue.
URL:https://www.nicholasivins.com/event/tempe-festival-of-the-arts-winter-2025-3/
LOCATION:Tempe\, 690 S Mill Ave\, Tempe\, AZ\, 85281\, United States
ATTACH;FMTTYPE=image/jpeg:https://www.nicholasivins.com/wp-content/uploads/tempe-scaled.jpg
END:VEVENT
BEGIN:VEVENT
DTSTART;TZID=America/Los_Angeles:20251212T100000
DTEND;TZID=America/Los_Angeles:20251212T170000
DTSTAMP:20260419T051033
CREATED:20251030T215016Z
LAST-MODIFIED:20251030T215016Z
UID:17015-1765533600-1765558800@www.nicholasivins.com
SUMMARY:Tucson 4th Avenue Winter Street Fair 2025
DESCRIPTION:This family-friendly tradition brings over 600\,000 people to the heart of the Old Pueblo every year. The Fair hosts artists from around the world\, decadent food\, local entertainment and a lot of fun! The Fair is biannual\, taking full advantage of our wonderful Sonoran Desert climate\, with one in the Winter and the other in Spring.
URL:https://www.nicholasivins.com/event/tucson-4th-avenue-winter-street-fair-2025/
LOCATION:Historic Fourth Avenue\, 546 Nth 4th Avenue\, Tucson\, AZ\, 85705\, United States
ATTACH;FMTTYPE=image/jpeg:https://www.nicholasivins.com/wp-content/uploads/tucson.jpg
END:VEVENT
BEGIN:VEVENT
DTSTART;TZID=America/Los_Angeles:20251213T100000
DTEND;TZID=America/Los_Angeles:20251213T170000
DTSTAMP:20260419T051033
CREATED:20251030T215216Z
LAST-MODIFIED:20251030T215216Z
UID:17018-1765620000-1765645200@www.nicholasivins.com
SUMMARY:Tucson 4th Avenue Winter Street Fair 2025
DESCRIPTION:This family-friendly tradition brings over 600\,000 people to the heart of the Old Pueblo every year. The Fair hosts artists from around the world\, decadent food\, local entertainment and a lot of fun! The Fair is biannual\, taking full advantage of our wonderful Sonoran Desert climate\, with one in the Winter and the other in Spring.
URL:https://www.nicholasivins.com/event/tucson-4th-avenue-winter-street-fair-2025-2/
LOCATION:Historic Fourth Avenue\, 546 Nth 4th Avenue\, Tucson\, AZ\, 85705\, United States
ATTACH;FMTTYPE=image/jpeg:https://www.nicholasivins.com/wp-content/uploads/tucson.jpg
END:VEVENT
BEGIN:VEVENT
DTSTART;TZID=America/Los_Angeles:20251214T100000
DTEND;TZID=America/Los_Angeles:20251214T170000
DTSTAMP:20260419T051033
CREATED:20251030T215236Z
LAST-MODIFIED:20251030T215236Z
UID:17017-1765706400-1765731600@www.nicholasivins.com
SUMMARY:Tucson 4th Avenue Winter Street Fair 2025
DESCRIPTION:This family-friendly tradition brings over 600\,000 people to the heart of the Old Pueblo every year. The Fair hosts artists from around the world\, decadent food\, local entertainment and a lot of fun! The Fair is biannual\, taking full advantage of our wonderful Sonoran Desert climate\, with one in the Winter and the other in Spring.
URL:https://www.nicholasivins.com/event/tucson-4th-avenue-winter-street-fair-2025-3/
LOCATION:Historic Fourth Avenue\, 546 Nth 4th Avenue\, Tucson\, AZ\, 85705\, United States
ATTACH;FMTTYPE=image/jpeg:https://www.nicholasivins.com/wp-content/uploads/tucson.jpg
END:VEVENT
END:VCALENDAR